BEGIN:VCALENDAR
VERSION:2.0
PRODID:-//hacksw/handcal//NONSGML v1.0//EN
BEGIN:VEVENT
DTSTAMP:20260507T170000Z
DTSTART:20260507T170000Z
DTEND:20260507T193000Z
LOCATION:Helmut-Kohl-Haus, Hermann-Seger-Straße 23, Frechen, 50226, Deutschland
SUMMARY:Mitgliederbeauftragtenkonferenz
END:VEVENT
END:VCALENDAR
